BEGIN:VCALENDAR
VERSION:2.0
PRODID:-//The National Flood School - ECPv6.15.13//NONSGML v1.0//EN
CALSCALE:GREGORIAN
METHOD:PUBLISH
X-WR-CALNAME:The National Flood School
X-ORIGINAL-URL:https://nationalfloodschool.co.uk
X-WR-CALDESC:Events for The National Flood School
REFRESH-INTERVAL;VALUE=DURATION:PT1H
X-Robots-Tag:noindex
X-PUBLISHED-TTL:PT1H
BEGIN:VTIMEZONE
TZID:UTC
BEGIN:STANDARD
TZOFFSETFROM:+0000
TZOFFSETTO:+0000
TZNAME:UTC
DTSTART:20250101T000000
END:STANDARD
END:VTIMEZONE
BEGIN:VEVENT
DTSTART;TZID=UTC:20260317T090000
DTEND;TZID=UTC:20260319T173000
DTSTAMP:20260420T085134
CREATED:20250930T123334Z
LAST-MODIFIED:20260303T145158Z
UID:10000077-1773738000-1773941400@nationalfloodschool.co.uk
SUMMARY:IICRC Water Restoration Technician Course - Livestream
DESCRIPTION:
URL:https://nationalfloodschool.co.uk/course/iicrc-water-restoration-technician-course-livestream-4/
LOCATION:https://nationalfloodschool.co.uk/course/iicrc-water-restoration-technician-course-livestream-4/
CATEGORIES:IICRC Water Restoration Technician,Live Stream
ATTACH;FMTTYPE=image/png:https://nationalfloodschool.co.uk/wp-content/uploads/IICRC-Water-Restoration-Technician-Category-Course-Live-Stream.png
END:VEVENT
END:VCALENDAR